BEGIN:VCALENDAR
VERSION:2.0
PRODID:-//Monika Raulf - Coaching - ECPv6.15.20//NONSGML v1.0//EN
CALSCALE:GREGORIAN
METHOD:PUBLISH
X-ORIGINAL-URL:https://monikaraulf.com
X-WR-CALDESC:Veranstaltungen für Monika Raulf - Coaching
REFRESH-INTERVAL;VALUE=DURATION:PT1H
X-Robots-Tag:noindex
X-PUBLISHED-TTL:PT1H
BEGIN:VTIMEZONE
TZID:Europe/Berlin
BEGIN:DAYLIGHT
TZOFFSETFROM:+0100
TZOFFSETTO:+0200
TZNAME:CEST
DTSTART:20240331T010000
END:DAYLIGHT
BEGIN:STANDARD
TZOFFSETFROM:+0200
TZOFFSETTO:+0100
TZNAME:CET
DTSTART:20241027T010000
END:STANDARD
BEGIN:DAYLIGHT
TZOFFSETFROM:+0100
TZOFFSETTO:+0200
TZNAME:CEST
DTSTART:20250330T010000
END:DAYLIGHT
BEGIN:STANDARD
TZOFFSETFROM:+0200
TZOFFSETTO:+0100
TZNAME:CET
DTSTART:20251026T010000
END:STANDARD
BEGIN:DAYLIGHT
TZOFFSETFROM:+0100
TZOFFSETTO:+0200
TZNAME:CEST
DTSTART:20260329T010000
END:DAYLIGHT
BEGIN:STANDARD
TZOFFSETFROM:+0200
TZOFFSETTO:+0100
TZNAME:CET
DTSTART:20261025T010000
END:STANDARD
BEGIN:DAYLIGHT
TZOFFSETFROM:+0100
TZOFFSETTO:+0200
TZNAME:CEST
DTSTART:20270328T010000
END:DAYLIGHT
BEGIN:STANDARD
TZOFFSETFROM:+0200
TZOFFSETTO:+0100
TZNAME:CET
DTSTART:20271031T010000
END:STANDARD
END:VTIMEZONE
BEGIN:VEVENT
DTSTART;TZID=Europe/Berlin:20260321T090000
DTEND;TZID=Europe/Berlin:20260322T160000
DTSTAMP:20260423T175546
CREATED:20241125T184518Z
LAST-MODIFIED:20250123T093228Z
UID:1342-1774083600-1774195200@monikaraulf.com
SUMMARY:Pharmazeutisches Coaching - Ausbildung 2025/26 Modul 3/3
DESCRIPTION:Um Anmeldung wurde gebeten bis zum 31.7.2025 \nAchtung: Begrenzte Teilnehmerzahl (max.7) \nBei Anmeldung bis zum 28.2.2025  Frühbucher-Preis  Staffel 1 – 1895 Euro \nBei Anmeldung bis zum 30.4.2025  Frühbucher-Preis  Staffel 2 – 1995 Euro \nBei Anmeldung bis zum 15.6.2025  Frühbucher-Preis  Staffel 3 – 2295 Euro \n(Jeweils Gesamtpreise) \nFreischaltung der Online-Inhalte erfolgte ab August.2025 \nTermin Modul 1 – 04./05.10.2025 \nTermin Modul 2 – 24./25.01.2025 \nTermin Modul 3 – 21./22.03.2026 \n  \n  \n 
URL:https://monikaraulf.com/veranstaltung/pharmazeutisches-coaching-ausbildung-2025-26-modul-3-3/
LOCATION:Hamburg\, Immermannstraße 1a\, Hamburg\, 22765
CATEGORIES:Ausbildung,Online,Präsenz,Präsenz plus online - Kombi,Wochenendveranstaltung
ORGANIZER;CN="Monika Raulf":MAILTO:info@co-pha.com
END:VEVENT
BEGIN:VEVENT
DTSTART;TZID=Europe/Berlin:20260124T090000
DTEND;TZID=Europe/Berlin:20260125T160000
DTSTAMP:20260423T175546
CREATED:20241125T184835Z
LAST-MODIFIED:20241127T081456Z
UID:1345-1769245200-1769356800@monikaraulf.com
SUMMARY:Pharmazeutisches Coaching - Ausbildung 2025/26 Modul 2/3
DESCRIPTION:Um Anmeldung wurde gebeten bis zum 31.7.2025 \nAchtung: Begrenzte Teilnehmerzahl (max.7) \nBei Anmeldung bis zum 28.2.2025  Frühbucher-Preis  Staffel 1 – 1895 Euro \nBei Anmeldung bis zum 30.4.2025  Frühbucher-Preis  Staffel 2 – 1995 Euro \nBei Anmeldung bis zum 15.6.2025  Frühbucher-Preis  Staffel 3 – 2295 Euro \n(Jeweils Gesamtpreise) \nFreischaltung der Online-Inhalte erfolgte ab August.2025 \nTermin Modul 1 – 04./05.10.2025 \nTermin Modul 2 – 24./25.01.2025 \nTermin Modul 3 – 21./22.03.2026
URL:https://monikaraulf.com/veranstaltung/pharmazeutisches-coaching-ausbildung-2025-26-modul-2-3/
LOCATION:Hamburg\, Immermannstraße 1a\, Hamburg\, 22765
CATEGORIES:Ausbildung,Online,Präsenz,Präsenz plus online - Kombi,Wochenendveranstaltung
ORGANIZER;CN="Monika Raulf":MAILTO:info@co-pha.com
END:VEVENT
BEGIN:VEVENT
DTSTART;TZID=Europe/Berlin:20251127T190000
DTEND;TZID=Europe/Berlin:20251127T203000
DTSTAMP:20260423T175546
CREATED:20241013T175712Z
LAST-MODIFIED:20241013T175712Z
UID:1299-1764270000-1764275400@monikaraulf.com
SUMMARY:Lizenz-Call Pharmazeutische Coaches 4/2025
DESCRIPTION:
URL:https://monikaraulf.com/veranstaltung/lizenz-call-pharmazeutische-coaches-4-2025/
LOCATION:Zoom-Call
CATEGORIES:Lizenz-Call,Online
ORGANIZER;CN="Monika Raulf":MAILTO:info@co-pha.com
END:VEVENT
BEGIN:VEVENT
DTSTART;TZID=Europe/Berlin:20251118T200000
DTEND;TZID=Europe/Berlin:20251118T213000
DTSTAMP:20260423T175546
CREATED:20241125T185649Z
LAST-MODIFIED:20241125T185649Z
UID:1350-1763496000-1763501400@monikaraulf.com
SUMMARY:pDL Baukasten: Change Management – so werden die pDL zum Erfolg!
DESCRIPTION:Achtung: Anmeldung ausschließlich für Apothekenpersonal über die Apothekerkammer Nordrhein! \nMit den pharmazeutischen Dienstleistungen (pDL) eröffnet sich den Apotheken ein neuer Weg\, die eigene pharmazeutische Kompetenz für Patienten noch spürbarer zu machen. \nSie bietet die Chance\, neue Kunden zu gewinnen und langfristig zu binden. Zudem besteht die Möglichkeit einer „packungsunabhängigen“ Vergütung\, die noch dazu von den Apotheken selbst ausgelöst werden kann. \nDen neuen Chancen stehen allerdings auch Herausforderungen gegenüber: die Einführung neuer Prozesse sowie die Änderung von Abläufen in Zeiten von Personalnot und Lieferengpässen. \nEs bedarf eines Umdenkens und einer offenen Einstellung gegenüber diesen Veränderungen. \nChange Management ist die bewusste Gestaltung von Veränderungsprozessen\, um die Zielorientierung\, Effizienz\, Umsetzungsstärke und Akzeptanz von den Betroffenen zu fördern. \nErfahren Sie\, wie Ansätze und Methoden des Change-Managements hilfreich bei der Implementierung der neuen pDL sein können. \nDie Referentin stellt diese Vorgehensweise ganz praxisnah anhand von Beispielen aus dem Apothekenalltag vor und stellt konkret den Bezug zu den neuen pharmazeutischen Dienstleistungen her. \nReferent/in:  Monika Raulf\, Apothekerin \n 
URL:https://monikaraulf.com/veranstaltung/pdl-baukasten-change-management-so-werden-die-pdl-zum-erfolg-2/
LOCATION:Apothekerkammer Nordrhein
CATEGORIES:Online,Web-Seminar
END:VEVENT
BEGIN:VEVENT
DTSTART;TZID=Europe/Berlin:20251004T080000
DTEND;TZID=Europe/Berlin:20251005T150000
DTSTAMP:20260423T175546
CREATED:20241125T185328Z
LAST-MODIFIED:20241127T081655Z
UID:1348-1759564800-1759676400@monikaraulf.com
SUMMARY:Pharmazeutisches Coaching - Ausbildung 2025/26 Modul 1/3
DESCRIPTION:Um Anmeldung wird gebeten bis zum 31.7.2025 \nAchtung: Begrenzte Teilnehmerzahl (max.7) \nBei Anmeldung bis zum 28.2.2025  Frühbucher-Preis  Staffel 1 – 1895 Euro \nBei Anmeldung bis zum 30.4.2025  Frühbucher-Preis  Staffel 2 – 1995 Euro \nBei Anmeldung bis zum 15.6.2025  Frühbucher-Preis  Staffel 3 – 2295 Euro \n(Jeweils Gesamtpreise) \nFreischaltung der Online-Inhalte erfolgte ab August.2025 \nTermin Modul 1 – 04./05.10.2025 \nTermin Modul 2 – 24./25.01.2025 \nTermin Modul 3 – 21./22.03.2026
URL:https://monikaraulf.com/veranstaltung/pharmazeutisches-coaching-ausbildung-2025-26-modul-1-3/
LOCATION:Hamburg\, Immermannstraße 1a\, Hamburg\, 22765
CATEGORIES:Ausbildung,Online,Präsenz,Präsenz plus online - Kombi,Wochenendveranstaltung
ORGANIZER;CN="Monika Raulf":MAILTO:info@co-pha.com
END:VEVENT
BEGIN:VEVENT
DTSTART;TZID=Europe/Berlin:20250920T090000
DTEND;TZID=Europe/Berlin:20250921T160000
DTSTAMP:20260423T175546
CREATED:20241013T075954Z
LAST-MODIFIED:20241013T075954Z
UID:1258-1758358800-1758470400@monikaraulf.com
SUMMARY:Pharmazeutisches Coaching - Ausbildung 2025 Modul 3/3
DESCRIPTION:Um Anmeldung wurde gebeten bis zum 31.3.2025 \nAchtung: Begrenzte Teilnehmerzahl (max.7) \nBei Anmeldung bis zum 31.10.2024 Frühbucher-Preis  Staffel 1 – Expo – Special (Voranmeldung) 1895 Euro \nBei Anmeldung bis zum 31.12.2024  Frühbucher-Preis  Staffel 2 – 1995 Euro \nBei Anmeldung bis zum 15.2.2025  Frühbucher-Preis  Staffel 3 – 2295 Euro \n(Jeweils Gesamtpreise) \nFreischaltung der Online-Inhalte erfolgte ab 4.4.2024 \nTermin Modul 1 – 24./25.5.2025 \nTermin Modul 2 – 19./20.7.2025 \nTermin Modul 3 – 20./21.9.2025 \n  \n 
URL:https://monikaraulf.com/veranstaltung/pharmazeutisches-coaching-ausbildung-2025-modul-3-3/
LOCATION:Aquariana\, Am Tempelhofer Berg 7D\, Berlin-Kreuzberg\, 10965\, Germany
CATEGORIES:Ausbildung,Online,Präsenz,Präsenz plus online - Kombi,Wochenendveranstaltung
ORGANIZER;CN="Monika Raulf":MAILTO:info@co-pha.com
END:VEVENT
BEGIN:VEVENT
DTSTART;TZID=Europe/Berlin:20250916T090000
DTEND;TZID=Europe/Berlin:20250918T170000
DTSTAMP:20260423T175546
CREATED:20241013T182411Z
LAST-MODIFIED:20241013T182537Z
UID:1301-1758013200-1758214800@monikaraulf.com
SUMMARY:Expopharm 2025
DESCRIPTION:
URL:https://monikaraulf.com/veranstaltung/expopharm-2025/
LOCATION:Messe Düsseldorf
END:VEVENT
BEGIN:VEVENT
DTSTART;TZID=Europe/Berlin:20250828T190000
DTEND;TZID=Europe/Berlin:20250828T203000
DTSTAMP:20260423T175546
CREATED:20241013T175531Z
LAST-MODIFIED:20241013T175531Z
UID:1297-1756407600-1756413000@monikaraulf.com
SUMMARY:Lizenz-Call Pharmazeutische Coaches 3/2025
DESCRIPTION:
URL:https://monikaraulf.com/veranstaltung/lizenz-call-pharmazeutische-coaches-3-2025/
LOCATION:Zoom-Call
CATEGORIES:Lizenz-Call,Online
ORGANIZER;CN="Monika Raulf":MAILTO:info@co-pha.com
END:VEVENT
BEGIN:VEVENT
DTSTART;TZID=Europe/Berlin:20250719T090000
DTEND;TZID=Europe/Berlin:20250720T160000
DTSTAMP:20260423T175546
CREATED:20241013T074507Z
LAST-MODIFIED:20241013T075732Z
UID:1247-1752915600-1753027200@monikaraulf.com
SUMMARY:Pharmazeutisches Coaching - Ausbildung 2025 Modul 2/3
DESCRIPTION:Um Anmeldung wurde gebeten bis zum 31.3.2025 \nAchtung: Begrenzte Teilnehmerzahl (max.7) \nBei Anmeldung bis zum 31.10.2024 Frühbucher-Preis  Staffel 1 – Expo – Special (Voranmeldung) 1895 Euro \nBei Anmeldung bis zum 31.12.2024  Frühbucher-Preis  Staffel 2 – 1995 Euro \nBei Anmeldung bis zum 15.2.2025  Frühbucher-Preis  Staffel 3 – 2295 Euro \n(Jeweils Gesamtpreise) \nFreischaltung der Online-Inhalte erfolgte ab 4.4.2024 \nTermin Modul 1 – 24./25.5.2025 \nTermin Modul 2 – 19./20.7.2025 \nTermin Modul 3 – 20./21.9.2025 \n  \n 
URL:https://monikaraulf.com/veranstaltung/pharmazeutisches-coaching-ausbildung-2025-modul-2-3/
LOCATION:Aquariana\, Am Tempelhofer Berg 7D\, Berlin-Kreuzberg\, 10965\, Germany
CATEGORIES:Ausbildung,Online,Präsenz,Präsenz plus online - Kombi,Wochenendveranstaltung
ORGANIZER;CN="Monika Raulf":MAILTO:info@co-pha.com
END:VEVENT
BEGIN:VEVENT
DTSTART;TZID=Europe/Berlin:20250712T090000
DTEND;TZID=Europe/Berlin:20250713T170000
DTSTAMP:20260423T175546
CREATED:20241013T073100Z
LAST-MODIFIED:20250414T193450Z
UID:1245-1752310800-1752426000@monikaraulf.com
SUMMARY:Erfolgreiche Selbstständigkeit als Coach
DESCRIPTION:Mit der Bitte um Anmeldung per PN an mr@co-pha.com \n 
URL:https://monikaraulf.com/veranstaltung/limitless-huerden-sprengen-und-potenzial-freisetzen-2/
LOCATION:Aquariana\, Am Tempelhofer Berg 7D\, Berlin-Kreuzberg\, 10965\, Germany
CATEGORIES:Präsenz,Wochenendveranstaltung,Workshop
ORGANIZER;CN="Monika Raulf":MAILTO:info@co-pha.com
END:VEVENT
BEGIN:VEVENT
DTSTART;TZID=Europe/Berlin:20250626T193000
DTEND;TZID=Europe/Berlin:20250626T210000
DTSTAMP:20260423T175546
CREATED:20250414T193006Z
LAST-MODIFIED:20250414T193006Z
UID:1445-1750966200-1750971600@monikaraulf.com
SUMMARY:"Tierisch gut" - Gesundheit aus der Apotheke für Samtpfoten\, Fellnasen & Co.
DESCRIPTION:
URL:https://monikaraulf.com/veranstaltung/tierisch-gut-gesundheit-aus-der-apotheke-fuer-samtpfoten-fellnasen-co-2/
LOCATION:Zoom-Call
CATEGORIES:Online,Web-Seminar
END:VEVENT
BEGIN:VEVENT
DTSTART;TZID=Europe/Berlin:20250602T180000
DTEND;TZID=Europe/Berlin:20250602T200000
DTSTAMP:20260423T175546
CREATED:20241013T071754Z
LAST-MODIFIED:20241207T173621Z
UID:1242-1748887200-1748894400@monikaraulf.com
SUMMARY:Pharmazeutisches Coaching – Neue Dienstleistung im Kraftort Apotheke
DESCRIPTION:Um Anmeldung bis zum 13.4.25 wird gebeten \nBei Buchung der Ausbildung zum Pharmazeutischen Coach (Apothekenpersonal) oder der Dienstleistung (für Patienten und Kunden) wird der Betrag von 18 Euro verrechnet \nHier der Vollständigkeit halber die beiden Links zum Aquariana: \nLink zum Aquariana – Kalendarium \nLink zu meinem Aquariana – Profil \n 
URL:https://monikaraulf.com/veranstaltung/pharmazeutisches-coaching-neue-dienstleistung-im-kraftort-apotheke/
LOCATION:Aquariana\, Am Tempelhofer Berg 7D\, Berlin-Kreuzberg\, 10965\, Germany
CATEGORIES:Informationsveranstaltung,Präsenz
END:VEVENT
BEGIN:VEVENT
DTSTART;TZID=Europe/Berlin:20250528T100000
DTEND;TZID=Europe/Berlin:20250528T120000
DTSTAMP:20260423T175546
CREATED:20241013T071138Z
LAST-MODIFIED:20241207T173657Z
UID:1240-1748426400-1748433600@monikaraulf.com
SUMMARY:High Energy – Mehr Motivation für Lebensqualität und Fülle
DESCRIPTION:Um Anmeldung bis zum 13.4.25 wird gebeten \nHier der Vollständigkeit halber die beiden Links zum Aquariana: \nLink zum Aquariana – Kalendarium \nLink zu meinem Aquariana – Profil \n 
URL:https://monikaraulf.com/veranstaltung/high-energy-mehr-motivation-fuer-lebensqualitaet-und-fuelle/
LOCATION:Aquariana\, Am Tempelhofer Berg 7D\, Berlin-Kreuzberg\, 10965\, Germany
ORGANIZER;CN="Monika Raulf":MAILTO:info@co-pha.com
END:VEVENT
BEGIN:VEVENT
DTSTART;TZID=Europe/Berlin:20250524T080000
DTEND;TZID=Europe/Berlin:20250525T150000
DTSTAMP:20260423T175546
CREATED:20241013T075647Z
LAST-MODIFIED:20241013T075647Z
UID:1252-1748073600-1748185200@monikaraulf.com
SUMMARY:Pharmazeutisches Coaching - Ausbildung 2025 Modul 1/3
DESCRIPTION:Um Anmeldung wird gebeten bis zum 31.3.2025 \nAchtung: Begrenzte Teilnehmerzahl (max.7) \nBei Anmeldung bis zum 31.10.2024 Frühbucher-Preis Staffel 1 – Expo – Special (Voranmeldung) 1895 Euro \nBei Anmeldung bis zum 31.12.2024 Frühbucher-Preis Staffel 2 – 1995 Euro \nBei Anmeldung bis zum 15.02.2025 Frühbucher-Preis Staffel 3 – 2295 Euro \nFreischaltung der Online-Inhalte erfolgt ab 4.4.2024 \nTermin Modul 1 – 24./25.5.2025 \nTermin Modul 2 – 19./20.7.2025 \nTermin Modul 3 – 20./21.9.2025 \n  \n 
URL:https://monikaraulf.com/veranstaltung/pharmazeutisches-coaching-ausbildung-2025-modul-1-3/
LOCATION:Aquariana\, Am Tempelhofer Berg 7D\, Berlin-Kreuzberg\, 10965\, Germany
CATEGORIES:Ausbildung,Online,Präsenz,Präsenz plus online - Kombi,Wochenendveranstaltung
ORGANIZER;CN="Monika Raulf":MAILTO:info@co-pha.com
END:VEVENT
BEGIN:VEVENT
DTSTART;TZID=Europe/Berlin:20250522T190000
DTEND;TZID=Europe/Berlin:20250522T203000
DTSTAMP:20260423T175546
CREATED:20241013T175411Z
LAST-MODIFIED:20241126T201914Z
UID:1295-1747940400-1747945800@monikaraulf.com
SUMMARY:Lizenz-Call Pharmazeutische Coaches 2/2025
DESCRIPTION:
URL:https://monikaraulf.com/veranstaltung/lizenz-call-pharmazeutische-coaches-2-2025/
LOCATION:Zoom-Call
CATEGORIES:Lizenz-Call,Online
ORGANIZER;CN="Monika Raulf":MAILTO:info@co-pha.com
END:VEVENT
BEGIN:VEVENT
DTSTART;TZID=Europe/Berlin:20250514T193000
DTEND;TZID=Europe/Berlin:20250514T210000
DTSTAMP:20260423T175546
CREATED:20250414T192634Z
LAST-MODIFIED:20250414T193111Z
UID:1440-1747251000-1747256400@monikaraulf.com
SUMMARY:"Tierisch gut" - Gesundheit aus der Apotheke für Samtpfoten\, Fellnasen & Co.
DESCRIPTION:
URL:https://monikaraulf.com/veranstaltung/tierisch-gut-gesundheit-aus-der-apotheke-fuer-samtpfoten-fellnasen-co/
LOCATION:Zoom-Call
CATEGORIES:Online,Web-Seminar
END:VEVENT
BEGIN:VEVENT
DTSTART;TZID=Europe/Berlin:20250405T090000
DTEND;TZID=Europe/Berlin:20250405T170000
DTSTAMP:20260423T175546
CREATED:20241013T070557Z
LAST-MODIFIED:20241207T173350Z
UID:1238-1743843600-1743872400@monikaraulf.com
SUMMARY:Stress-Management: Lösungsorientierte Selbstfürsorge für den Alltag
DESCRIPTION:Um Anmeldung bis zum 16.2. wird gebeten \nBei Anmeldung bis zum 26.1.2025 Frühbucher-Preis 90 Euro \nHier der Vollständigkeit halber die beiden Links zum Aquariana: \nLink zum Aquariana – Kalendarium \nLink zu meinem Aquariana – Profil \n 
URL:https://monikaraulf.com/veranstaltung/stress-management-loesungsorientierte-selbstfuersorge-fuer-den-alltag-3/
LOCATION:Aquariana\, Am Tempelhofer Berg 7D\, Berlin-Kreuzberg\, 10965\, Germany
CATEGORIES:Präsenz,Wochenendveranstaltung,Workshop
ORGANIZER;CN="Monika Raulf":MAILTO:info@co-pha.com
END:VEVENT
BEGIN:VEVENT
DTSTART;TZID=Europe/Berlin:20250331T180000
DTEND;TZID=Europe/Berlin:20250331T200000
DTSTAMP:20260423T175546
CREATED:20241013T065838Z
LAST-MODIFIED:20241207T173214Z
UID:1234-1743444000-1743451200@monikaraulf.com
SUMMARY:Erfolgreiche Selbstständigkeit als Coach im Gesundheitswesen
DESCRIPTION:Mit der Bitte um Anmeldung bis zum 09.02.2025 \nInformationsveranstaltung zum Workshop \nBei Anmeldung (Präsenz oder Online) wird der Betrag von 18 Euro angerechnet \nHier das “Mehr” an Möglichkeiten kurz für Dich zusammengefasst. \nCoaching (3 Termine) – Du weisst schon genau\, wo es lang geht und irgendwo hakt es noch …\nOnline Kurs – Du durchläufst in Eigenregie die einzelnen Phasen flexibel in Deinem eigenen Tempo und zu Zeiten Deiner Wahl\nWorkshop: Online-Kurs und Coaching – Mehr geht nur noch in Präsenz 🙂\nPräsenz – Volle Energie und kompletter Fokus … ein Wochenende lang 🙂 \nHier der Vollständigkeit halber die beiden Links zum Aquariana: \nLink zum Aquariana – Kalendarium \nLink zu meinem Aquariana – Profil \n 
URL:https://monikaraulf.com/veranstaltung/erfolgreiche-selbststaendigkeit-als-coach-im-gesundheitswesen/
LOCATION:Aquariana\, Am Tempelhofer Berg 7D\, Berlin-Kreuzberg\, 10965\, Germany
CATEGORIES:Informationsveranstaltung,Präsenz
ORGANIZER;CN="Monika Raulf":MAILTO:info@co-pha.com
END:VEVENT
BEGIN:VEVENT
DTSTART;VALUE=DATE:20250328
DTEND;VALUE=DATE:20250331
DTSTAMP:20260423T175546
CREATED:20241012T110737Z
LAST-MODIFIED:20241012T110804Z
UID:1207-1743202800-1743375599@monikaraulf.com
SUMMARY:Pharmazeutisches Coaching - Ausbildung 2024/2025 Modul 3/3
DESCRIPTION:
URL:https://monikaraulf.com/veranstaltung/pharmazeutisches-coaching-ausbildung-modul-3-3/
END:VEVENT
BEGIN:VEVENT
DTSTART;TZID=Europe/Berlin:20250320T180000
DTEND;TZID=Europe/Berlin:20250320T200000
DTSTAMP:20260423T175546
CREATED:20241012T130432Z
LAST-MODIFIED:20241207T173922Z
UID:1228-1742493600-1742500800@monikaraulf.com
SUMMARY:Kraftort Körper: Selbstheilungskräfte zielgerichtet aktivieren
DESCRIPTION:Um Anmeldung bis zum 3.2.2025 wird gebeten \nHier der Vollständigkeit halber die beiden Links zum Aquariana: \nLink zum Aquariana – Kalendarium \nLink zu meinem Aquariana – Profil \n 
URL:https://monikaraulf.com/veranstaltung/kraftort-koerper-selbstheilungskraefte-zielgerichtet-aktivieren-2/
LOCATION:Aquariana\, Am Tempelhofer Berg 7D\, Berlin-Kreuzberg\, 10965\, Germany
CATEGORIES:Präsenz,Workshop
ORGANIZER;CN="Monika Raulf":MAILTO:info@co-pha.com
END:VEVENT
BEGIN:VEVENT
DTSTART;TZID=Europe/Berlin:20250319T190000
DTEND;TZID=Europe/Berlin:20250319T200000
DTSTAMP:20260423T175546
CREATED:20241126T203043Z
LAST-MODIFIED:20241126T203043Z
UID:1366-1742410800-1742414400@monikaraulf.com
SUMMARY:FAQ-Gruppencall Ausbildung zum Pharmazeutischen Coach
DESCRIPTION:
URL:https://monikaraulf.com/veranstaltung/faq-gruppencall-ausbildung-zum-pharmazeutischen-coach-9/
LOCATION:Zoom-Call
CATEGORIES:FAQ-Call Ausbildung,Online
ORGANIZER;CN="Monika Raulf":MAILTO:info@co-pha.com
END:VEVENT
BEGIN:VEVENT
DTSTART;TZID=Europe/Berlin:20250308T090000
DTEND;TZID=Europe/Berlin:20250309T170000
DTSTAMP:20260423T175546
CREATED:20241013T064406Z
LAST-MODIFIED:20241207T174021Z
UID:1231-1741424400-1741539600@monikaraulf.com
SUMMARY:Limitless: Hürden sprengen und Potenzial freisetzen
DESCRIPTION:Mit der Bitte um Anmeldung bis zum 19.1.2025 \nBei Anmeldung bis zum 09.01.2025 Frühbucher-Preis: 350 Euro \nHier der Vollständigkeit halber die beiden Links zum Aquariana: \nLink zum Aquariana – Kalendarium \nLink zu meinem Aquariana – Profil \n 
URL:https://monikaraulf.com/veranstaltung/limitless-huerden-sprengen-und-potenzial-freisetzen/
LOCATION:Aquariana\, Am Tempelhofer Berg 7D\, Berlin-Kreuzberg\, 10965\, Germany
CATEGORIES:Präsenz,Wochenendveranstaltung,Workshop
ORGANIZER;CN="Monika Raulf":MAILTO:info@co-pha.com
END:VEVENT
BEGIN:VEVENT
DTSTART;TZID=Europe/Berlin:20250305T190000
DTEND;TZID=Europe/Berlin:20250305T200000
DTSTAMP:20260423T175546
CREATED:20241126T202944Z
LAST-MODIFIED:20241126T202944Z
UID:1356-1741201200-1741204800@monikaraulf.com
SUMMARY:FAQ-Gruppencall Ausbildung zum Pharmazeutischen Coach
DESCRIPTION:
URL:https://monikaraulf.com/veranstaltung/faq-gruppencall-ausbildung-zum-pharmazeutischen-coach-8/
LOCATION:Zoom-Call
CATEGORIES:FAQ-Call Ausbildung,Online
ORGANIZER;CN="Monika Raulf":MAILTO:info@co-pha.com
END:VEVENT
BEGIN:VEVENT
DTSTART;TZID=Europe/Berlin:20250303T180000
DTEND;TZID=Europe/Berlin:20250303T200000
DTSTAMP:20260423T175546
CREATED:20241012T125702Z
LAST-MODIFIED:20241207T174052Z
UID:1225-1741024800-1741032000@monikaraulf.com
SUMMARY:Stress-Management: Lösungsorientierte Selbstfürsorge für den Alltag
DESCRIPTION:Um Anmeldung bis zum 15.1. wird gebeten \nHier der Vollständigkeit halber die beiden Links zum Aquariana: \nLink zum Aquariana – Kalendarium \nLink zu meinem Aquariana – Profil \n 
URL:https://monikaraulf.com/veranstaltung/stress-management-loesungsorientierte-selbstfuersorge-fuer-den-alltag-2/
LOCATION:Aquariana\, Am Tempelhofer Berg 7D\, Berlin-Kreuzberg\, 10965\, Germany
CATEGORIES:Präsenz,Workshop
END:VEVENT
BEGIN:VEVENT
DTSTART;TZID=Europe/Berlin:20250226T190000
DTEND;TZID=Europe/Berlin:20250226T203000
DTSTAMP:20260423T175546
CREATED:20241013T175309Z
LAST-MODIFIED:20241126T202045Z
UID:1293-1740596400-1740601800@monikaraulf.com
SUMMARY:Lizenz-Call Pharmazeutische Coaches 1/2025
DESCRIPTION:
URL:https://monikaraulf.com/veranstaltung/lizenz-call-pharmazeutische-coaches-1-2025/
LOCATION:Zoom-Call
CATEGORIES:Lizenz-Call,Online
ORGANIZER;CN="Monika Raulf":MAILTO:info@co-pha.com
END:VEVENT
BEGIN:VEVENT
DTSTART;TZID=Europe/Berlin:20250225T100000
DTEND;TZID=Europe/Berlin:20250225T120000
DTSTAMP:20260423T175546
CREATED:20241012T125313Z
LAST-MODIFIED:20241207T174126Z
UID:1223-1740477600-1740484800@monikaraulf.com
SUMMARY:Stress-Management: Lösungsorientierte Selbstfürsorge für den Alltag
DESCRIPTION:Um Anmeldung bis zum 6.1. wird gebeten \nHier der Vollständigkeit halber die beiden Links zum Aquariana: \nLink zum Aquariana – Kalendarium \nLink zu meinem Aquariana – Profil \n 
URL:https://monikaraulf.com/veranstaltung/stress-management-loesungsorientierte-selbstfuersorge-fuer-den-alltag/
LOCATION:Aquariana\, Am Tempelhofer Berg 7D\, Berlin-Kreuzberg\, 10965\, Germany
CATEGORIES:Präsenz,Workshop
END:VEVENT
BEGIN:VEVENT
DTSTART;TZID=Europe/Berlin:20250220T180000
DTEND;TZID=Europe/Berlin:20250220T200000
DTSTAMP:20260423T175546
CREATED:20241012T124735Z
LAST-MODIFIED:20250123T095125Z
UID:1215-1740074400-1740081600@monikaraulf.com
SUMMARY:Kraftort Körper: Selbstheilungskräfte zielgerichtet aktivieren
DESCRIPTION:Um Anmeldung bis zum 6.1.2025 wird gebeten \nHier der Vollständigkeit halber die beiden Links zum Aquariana: \nLink zum Aquariana – Kalendarium \nLink zu meinem Aquariana – Profil \n 
URL:https://monikaraulf.com/veranstaltung/kraftort-koerper-selbstheilungskraefte-zielgerichtet-aktivieren/
LOCATION:Aquariana\, Am Tempelhofer Berg 7D\, Berlin-Kreuzberg\, 10965\, Germany
CATEGORIES:Präsenz,Workshop
ORGANIZER;CN="Monika Raulf":MAILTO:info@co-pha.com
END:VEVENT
BEGIN:VEVENT
DTSTART;TZID=Europe/Berlin:20250219T190000
DTEND;TZID=Europe/Berlin:20250219T200000
DTSTAMP:20260423T175546
CREATED:20241126T202853Z
LAST-MODIFIED:20241127T193809Z
UID:1357-1739991600-1739995200@monikaraulf.com
SUMMARY:FAQ-Gruppencall Ausbildung zum Pharmazeutischen Coach
DESCRIPTION:
URL:https://monikaraulf.com/veranstaltung/faq-gruppencall-ausbildung-zum-pharmazeutischen-coach-7/
LOCATION:Zoom-Call
CATEGORIES:FAQ-Call Ausbildung,Online
ORGANIZER;CN="Monika Raulf":MAILTO:info@co-pha.com
END:VEVENT
BEGIN:VEVENT
DTSTART;TZID=Europe/Berlin:20250205T190000
DTEND;TZID=Europe/Berlin:20250205T200000
DTSTAMP:20260423T175546
CREATED:20241126T202808Z
LAST-MODIFIED:20241126T202808Z
UID:1358-1738782000-1738785600@monikaraulf.com
SUMMARY:FAQ-Gruppencall Ausbildung zum Pharmazeutischen Coach
DESCRIPTION:
URL:https://monikaraulf.com/veranstaltung/faq-gruppencall-ausbildung-zum-pharmazeutischen-coach-6/
LOCATION:Zoom-Call
CATEGORIES:FAQ-Call Ausbildung,Online
ORGANIZER;CN="Monika Raulf":MAILTO:info@co-pha.com
END:VEVENT
BEGIN:VEVENT
DTSTART;TZID=Europe/Berlin:20250129T190000
DTEND;TZID=Europe/Berlin:20250129T200000
DTSTAMP:20260423T175546
CREATED:20241126T202730Z
LAST-MODIFIED:20241127T193927Z
UID:1359-1738177200-1738180800@monikaraulf.com
SUMMARY:FAQ-Gruppencall Ausbildung zum Pharmazeutischen Coach
DESCRIPTION:Achtung! \nVerschoben vom 22.1.25 auf den 29.1.25!
URL:https://monikaraulf.com/veranstaltung/faq-gruppencall-ausbildung-zum-pharmazeutischen-coach-5/
LOCATION:Zoom-Call
CATEGORIES:FAQ-Call Ausbildung,Online
ORGANIZER;CN="Monika Raulf":MAILTO:info@co-pha.com
END:VEVENT
END:VCALENDAR